BEGIN:VCALENDAR
VERSION:2.0
PRODID:Festas de São Paulo de Frades
X-WR-CALNAME:Festas de São Paulo de Frades
X-WR-TIMEZONE:Europe/Lisbon
X-PUBLISHED-TTL:P1W
BEGIN:VTIMEZONE
TZID:Europe/Lisbon
X-LIC-LOCATION:Europe/Lisbon
END:VTIMEZONE
BEGIN:VEVENT
UID:69eb9ed7e288a
DTSTART;VALUE=DATE:20220902
SEQUENCE:0
TRANSP:OPAQUE
DTEND;VALUE=DATE:20220903
SUMMARY:Festas de São Paulo de Frades
CLASS:PUBLIC
DESCRIPTION:Festas em Honra de Nossa Senhora do Rosário
X-MICROSOFT-CDO-ALLDAYEVENT:TRUE
DTSTAMP:20260424T164823Z
END:VEVENT
END:VCALENDAR