BEGIN:VCALENDAR
VERSION:2.0
PRODID:Festa em Honra de São Paulo 
X-WR-CALNAME:Festa em Honra de São Paulo 
X-WR-TIMEZONE:Europe/Lisbon
X-PUBLISHED-TTL:P1W
BEGIN:VTIMEZONE
TZID:Europe/Lisbon
X-LIC-LOCATION:Europe/Lisbon
END:VTIMEZONE
BEGIN:VEVENT
UID:69eb9b9878d79
DTSTART;VALUE=DATE:20230901
SEQUENCE:0
TRANSP:OPAQUE
DTEND;VALUE=DATE:20230902
SUMMARY:Festa em Honra de São Paulo 
CLASS:PUBLIC
DESCRIPTION:Festa em Honra de São Paulo&nbsp\;
X-MICROSOFT-CDO-ALLDAYEVENT:TRUE
DTSTAMP:20260424T163432Z
END:VEVENT
END:VCALENDAR